BEGIN:VCALENDAR
VERSION:2.0
PRODID:-//Bix and Assendon Parish Council//Meeting Calendar//EN
CALSCALE:GREGORIAN
METHOD:PUBLISH
BEGIN:VEVENT
UID:70595-20231106@bixandassendon-pc.gov.uk
DTSTAMP:20260422T082142Z
DTSTART;VALUE=DATE:20231106
DTEND;VALUE=DATE:20231107
SUMMARY:Council Minutes 6th Nov 2023
DESCRIPTION:Full Council Meeting\nView details: https://bixandassendon-pc.gov.uk/meetings/council-minutes-6th-nov-2023/
URL:https://bixandassendon-pc.gov.uk/meetings/council-minutes-6th-nov-2023/
END:VEVENT
END:VCALENDAR
