BEGIN:VCALENDAR
VERSION:2.0
PRODID:-//Bix and Assendon Parish Council//Meeting Calendar//EN
CALSCALE:GREGORIAN
METHOD:PUBLISH
BEGIN:VEVENT
UID:70383-20220307@bixandassendon-pc.gov.uk
DTSTAMP:20260419T133506Z
DTSTART;VALUE=DATE:20220307
DTEND;VALUE=DATE:20220308
SUMMARY:Council Meeting &#8211\\; 7th March 2022
DESCRIPTION:Full Council Meeting\nView details: https://bixandassendon-pc.gov.uk/meetings/council-meeting-7th-march-2022/
URL:https://bixandassendon-pc.gov.uk/meetings/council-meeting-7th-march-2022/
END:VEVENT
END:VCALENDAR
