BEGIN:VCALENDAR
VERSION:2.0
PRODID:-//Bix and Assendon Parish Council//Meeting Calendar//EN
CALSCALE:GREGORIAN
METHOD:PUBLISH
BEGIN:VEVENT
UID:70381-20220124@bixandassendon-pc.gov.uk
DTSTAMP:20260423T082934Z
DTSTART;VALUE=DATE:20220124
DTEND;VALUE=DATE:20220125
SUMMARY:Council Meeting &#8211\\; 24th January 2022
DESCRIPTION:Full Council Meeting\nView details: https://bixandassendon-pc.gov.uk/meetings/council-meeting-24th-january-2022/
URL:https://bixandassendon-pc.gov.uk/meetings/council-meeting-24th-january-2022/
END:VEVENT
END:VCALENDAR
