BEGIN:VCALENDAR
VERSION:2.0
PRODID:-//Bix and Assendon Parish Council//Meeting Calendar//EN
CALSCALE:GREGORIAN
METHOD:PUBLISH
BEGIN:VEVENT
UID:70375-20210705@bixandassendon-pc.gov.uk
DTSTAMP:20260423T083330Z
DTSTART;VALUE=DATE:20210705
DTEND;VALUE=DATE:20210706
SUMMARY:Council Meeting &#8211\\; 5th July 2021
DESCRIPTION:Full Council Meeting\nView details: https://bixandassendon-pc.gov.uk/meetings/council-meeting-5th-july-2021/
URL:https://bixandassendon-pc.gov.uk/meetings/council-meeting-5th-july-2021/
END:VEVENT
END:VCALENDAR
